BEGIN:VCALENDAR
VERSION:2.0
CALSCALE:GREGORIAN
BEGIN:VEVENT
SUMMARY:ZOOM
DTSTART;TZID=Europe/Paris:20220610T091500
DTEND;TZID=Europe/Paris:20220610T101500
LOCATION:home
DESCRIPTION: 
STATUS:CONFIRMED
SEQUENCE:0
END:VEVENT
END:VCALENDAR