BEGIN:VCALENDAR
VERSION:2.0
CALSCALE:GREGORIAN
BEGIN:VEVENT
SUMMARY:Mind Your Body
DTSTART;TZID=Europe/Amsterdam:20230612T103000
DTEND;TZID=Europe/Amsterdam:20230612T113000
LOCATION:Kerkstraat 16D Boekel
DESCRIPTION: Voor jou als je meer of weer in contact met je lijf wil komen, soepeler wil worden, beter wil gronden en dat in een ontspannen sfeer wil doen met oefeningen uit allerlei disciplines, zoals yoga, pilates, Breema, ademhalingstechnieken, visualisatie, chi gong en Nia.
STATUS:CONFIRMED
SEQUENCE:0
END:VEVENT
END:VCALENDAR