BEGIN:VCALENDAR
VERSION:2.0
CALSCALE:GREGORIAN
BEGIN:VEVENT
SUMMARY:Dru yoga - Op adem avontuur door Jeamène van Sinten
DTSTART;TZID=Europe/Amsterdam:20240109T090000
DTEND;TZID=Europe/Amsterdam:20240109T103000
LOCATION:Kerkstraat 16D Boekel
DESCRIPTION: De adem verbind je met je innerlijke zelf en dat is een verrijking in je leven. Ze brengt je in het hier-en-nu , je zorgen lossen op en je krijgt de beschikking over meer levensenergie. Geschikt voor zowel beginners als gevorderden.
Meenemen: drie kussentjes en een dekentje.
Kosten: 15 euro, betalen aan de docente bij aanvang van de les
STATUS:CONFIRMED
SEQUENCE:0
END:VEVENT
END:VCALENDAR