BEGIN:VCALENDAR
VERSION:2.0
CALSCALE:GREGORIAN
BEGIN:VEVENT
SUMMARY:Vrouwen Powerrrr vrouwencirkel
DTSTART;TZID=Europe/Amsterdam:20240227T193000
DTEND;TZID=Europe/Amsterdam:20240227T213000
LOCATION:Kerkstraat 16D Boekel
DESCRIPTION: Samenkomen met vrouwen om elkaar te ontmoeten, bekrachtigen en van elkaars wijsheid te leren. Wees welkom!
STATUS:CONFIRMED
SEQUENCE:0
END:VEVENT
END:VCALENDAR