BEGIN:VCALENDAR
VERSION:2.0
CALSCALE:GREGORIAN
BEGIN:VEVENT
SUMMARY:Abdo et dos méthode De Gasquet
DTSTART;TZID=Europe/Paris:20250930T100000
DTEND;TZID=Europe/Paris:20250930T110000
LOCATION:Studio
DESCRIPTION: Des séances ciblées pour renforcer les muscles profonds, protéger le dos et améliorer la posture, en respectant l&#039;anatomie et la santé du corps.
STATUS:CONFIRMED
SEQUENCE:0
END:VEVENT
END:VCALENDAR