BEGIN:VCALENDAR
VERSION:2.0
CALSCALE:GREGORIAN
BEGIN:VEVENT
SUMMARY:Yin Yang Yoga Dynamique ☯️
DTSTART;TZID=Europe/Paris:20260420T183000
DTEND;TZID=Europe/Paris:20260420T193000
LOCATION:59 Avenue de Sospel
DESCRIPTION: ☯️ Yin Yang Yoga Dynamique
Pour faire simple, ce cours est un mélange entre force, renforcement musculaire, cardio et douceur du yin yoga. On commence par étirer le corps doucement et on entame une pratique crescendo vers l&#039;effort, pour finir par un temps de repos. Un subtil mélange d’énergie et de calme : on démarre par une pratique fluide et dynamique pour réveiller le corps, puis on glisse vers des étirements profonds et introspectifs. Un équilibre parfait entre action et réceptivité.

👉 Pour qui ? Ceux.elles qui veulent à la fois bouger et se poser, trouver l’harmonie entre effort et lâcher-prise.
STATUS:CONFIRMED
SEQUENCE:0
END:VEVENT
END:VCALENDAR