BEGIN:VCALENDAR
VERSION:2.0
CALSCALE:GREGORIAN
BEGIN:VEVENT
SUMMARY:Yin Yoga 🪷
DTSTART;TZID=Europe/Paris:20260224T170000
DTEND;TZID=Europe/Paris:20260224T180000
LOCATION:59 Avenue de Sospel
DESCRIPTION: Une heure entièrement dédiée au lâcher-prise : allongé confortablement, plongez dans les postures et laissez-vous guider par ma voix dans un Yin profond, emporté par les vibrations des bols et instruments sonores. Une expérience immersive pour apaiser le mental, relâcher le corps et voyager au cœur de vous-même.
STATUS:CONFIRMED
SEQUENCE:0
END:VEVENT
END:VCALENDAR