BEGIN:VCALENDAR
VERSION:2.0
CALSCALE:GREGORIAN
BEGIN:VEVENT
SUMMARY:Power Vinyasa 🔥
DTSTART;TZID=Europe/Paris:20260217T120000
DTEND;TZID=Europe/Paris:20260217T130000
LOCATION:59 Avenue de Sospel
DESCRIPTION: Un vinyasa dynamique pour raviver l&#039;energie entre midi et deux. Un flow énergisant et relaxant pour attaquer l&#039;aprèm avec force et sérénité.
STATUS:CONFIRMED
SEQUENCE:0
END:VEVENT
END:VCALENDAR