BEGIN:VCALENDAR
VERSION:2.0
CALSCALE:GREGORIAN
BEGIN:VEVENT
SUMMARY:Stretching &amp; Renforcement
DTSTART;TZID=Europe/Paris:20260209T083000
DTEND;TZID=Europe/Paris:20260209T093000
LOCATION:59 Avenue de Sospel
DESCRIPTION: Un  flow, centré sur l’alignement, la respiration et la qualité du mouvement.
Idéal pour renforcer en profondeur, améliorer la posture et retrouver de la fluidité, sans impact ni précipitation.
STATUS:CONFIRMED
SEQUENCE:0
END:VEVENT
END:VCALENDAR