BEGIN:VCALENDAR
VERSION:2.0
CALSCALE:GREGORIAN
BEGIN:VEVENT
SUMMARY:Yin 🧘🌙
DTSTART;TZID=Europe/Paris:20260109T180000
DTEND;TZID=Europe/Paris:20260109T190000
LOCATION:59 Avenue de Sospel
DESCRIPTION: Un cours d’étirements dans la résilience, le calme le souffle 💫
STATUS:CONFIRMED
SEQUENCE:0
END:VEVENT
END:VCALENDAR