BEGIN:VCALENDAR
VERSION:2.0
CALSCALE:GREGORIAN
BEGIN:VEVENT
SUMMARY:Yoga Fusion 🧘‍♀️🏋️‍♀️
DTSTART;TZID=Europe/Paris:20260218T093000
DTEND;TZID=Europe/Paris:20260218T103000
LOCATION:59 Avenue de Sospel
DESCRIPTION: Un cours de yoga fusionne avec des exercices pilates 🔋✨🌛
STATUS:CONFIRMED
SEQUENCE:0
END:VEVENT
END:VCALENDAR