BEGIN:VCALENDAR
VERSION:2.0
CALSCALE:GREGORIAN
BEGIN:VEVENT
SUMMARY:Hatha Yoga
DTSTART;TZID=Europe/Paris:20250520T103000
DTEND;TZID=Europe/Paris:20250520T113000
LOCATION:Studio La Canopée
DESCRIPTION: Pratique qui s&amp;#039;adresse à tous. C&amp;#039;est un enchainement de postures (asanas) que l&amp;#039;on associe avec le souffle (pranayama).
Cette discipline favorise la souplesse, le renforcement musculaire, la gestion du stress et la relaxation.
STATUS:CONFIRMED
SEQUENCE:0
END:VEVENT
END:VCALENDAR