BEGIN:VCALENDAR
VERSION:2.0
CALSCALE:GREGORIAN
BEGIN:VEVENT
SUMMARY:Hatha Yoga
DTSTART;TZID=Europe/Paris:20260316T184500
DTEND;TZID=Europe/Paris:20260316T194500
LOCATION:Studio La Canopée
DESCRIPTION: Pratique qui s adresse à tous. C est un enchainement de postures (asanas) que l on associe avec le souffle (pranayama).
Cette discipline favorise la souplesse, le renforcement musculaire, la gestion du stress et la relaxation.
STATUS:CONFIRMED
SEQUENCE:0
END:VEVENT
END:VCALENDAR