BEGIN:VCALENDAR
VERSION:2.0
CALSCALE:GREGORIAN
BEGIN:VEVENT
SUMMARY:Yin Yoga
DTSTART;TZID=Europe/Paris:20251126T184500
DTEND;TZID=Europe/Paris:20251126T194500
LOCATION:Studio La Canopée
DESCRIPTION: Pratique de yoga doux et profond, qui intègre les principes de la médecine traditionnelle chinoise. 
Cette discipline permet d&amp;#039;apaiser le mental, de travailler sa souplesse de corps et d&amp;#039;esprit et de régénérer le corps.
STATUS:CONFIRMED
SEQUENCE:0
END:VEVENT
END:VCALENDAR