BEGIN:VCALENDAR
VERSION:2.0
CALSCALE:GREGORIAN
BEGIN:VEVENT
SUMMARY:Vinyasa
DTSTART;TZID=Europe/Paris:20250605T183000
DTEND;TZID=Europe/Paris:20250605T193000
LOCATION:Studio La Canopée
DESCRIPTION: Pratique de yoga intense et dynamique. Les postures s’enchainent de façon fluide.
Cette discipline favorise le renforcement musculaire et l&amp;#039;amélioration du système cardiovasculaire, l&amp;#039;apaisement et la gestion du stress.
STATUS:CONFIRMED
SEQUENCE:0
END:VEVENT
END:VCALENDAR