BEGIN:VCALENDAR
VERSION:2.0
CALSCALE:GREGORIAN
BEGIN:VEVENT
SUMMARY:Vinyasa 🔥🔥
DTSTART;TZID=Europe/Paris:20260409T184500
DTEND;TZID=Europe/Paris:20260409T194500
LOCATION:Studio La Canopée
DESCRIPTION: Pratique de yoga intense et dynamique. Les postures s’enchainent de façon fluide.
Cette discipline favorise le renforcement musculaire et l amélioration du système cardiovasculaire, l apaisement et la gestion du stress.
STATUS:CONFIRMED
SEQUENCE:0
END:VEVENT
END:VCALENDAR