BEGIN:VCALENDAR
VERSION:2.0
CALSCALE:GREGORIAN
BEGIN:VEVENT
SUMMARY:Voyage Sonore 🎶
DTSTART;TZID=Europe/Paris:20260304T200000
DTEND;TZID=Europe/Paris:20260304T201000
LOCATION:Studio La Canopée
DESCRIPTION: Le voyage sonore est une expérience de relaxation profonde, accessible à toutes et tous, sans prérequis.
Guidé(e) par les vibrations des instruments, vous êtes invité(e) à vous déposer, relâcher les tensions et apaiser le mental.

Cette séance de 45 minutes se déroule allongé(e), dans une ambiance cocoon et enveloppante.
Il n’y a rien à faire, rien à réussir : simplement se laisser porter par les sons, respirer et accueillir les sensations.

Proposé un mercredi sur deux à 20h, le voyage sonore est un temps hors du rythme, idéal pour relâcher la pression de la semaine, améliorer le sommeil et retrouver un profond sentiment de calme et de recentrage.

🌿 Séance ouverte à tous
🌿 Places limitées – réservation conseillée
🌿 Incluse dans les abonnements 1x et 2x par semaine / 20 € à l’unité
STATUS:CONFIRMED
SEQUENCE:0
END:VEVENT
END:VCALENDAR