BEGIN:VCALENDAR
VERSION:2.0
CALSCALE:GREGORIAN
BEGIN:VEVENT
SUMMARY:Yoga Renfo
DTSTART;TZID=Europe/Paris:20260317T184500
DTEND;TZID=Europe/Paris:20260317T194500
LOCATION:Studio La Canopée
DESCRIPTION: Une séance tonique et consciente pour activer les muscles profonds, améliorer l’alignement et soutenir le dos. Entre flow et travail ciblé, cette pratique est idéale pour celles et ceux qui apprécient le Pilates et recherchent un renforcement efficace, sans esprit de performance.
STATUS:CONFIRMED
SEQUENCE:0
END:VEVENT
END:VCALENDAR