BEGIN:VCALENDAR
VERSION:2.0
CALSCALE:GREGORIAN
BEGIN:VEVENT
SUMMARY:Pilates Core &amp; Booty
DTSTART;TZID=Europe/Paris:20260721T094500
DTEND;TZID=Europe/Paris:20260721T104500
LOCATION:Hôtel la baignoire
DESCRIPTION: Core &amp; booty (tous niveaux)
Un cours ciblé sur la sangle abdominale et les fessiers. 
Des exercices précis, intensité progressive et une vraie sensation de travail en profondeur.
Sensation de chaleur garantie, mais toujours avec douceur et précision.
STATUS:CONFIRMED
SEQUENCE:0
END:VEVENT
END:VCALENDAR