BEGIN:VCALENDAR
VERSION:2.0
CALSCALE:GREGORIAN
BEGIN:VEVENT
SUMMARY:Yoga Iyengar
DTSTART;TZID=Europe/Brussels:20241025T073000
DTEND;TZID=Europe/Brussels:20241025T090000
LOCATION:Avenue Latérale 19 à Uccle
DESCRIPTION: En zoom et au studio.
STATUS:CONFIRMED
SEQUENCE:0
END:VEVENT
END:VCALENDAR