BEGIN:VCALENDAR
VERSION:2.0
CALSCALE:GREGORIAN
BEGIN:VEVENT
SUMMARY:Hatha yoga
DTSTART;TZID=Europe/Brussels:20260112T190000
DTEND;TZID=Europe/Brussels:20260112T201500
LOCATION:
DESCRIPTION: Hatha yoga is een rustige, toegankelijke yogavorm waarin houding (asana), ademhaling (pranayama) en ontspanning in balans worden gebracht. In deze les nemen we de tijd om houdingen bewust en gecontroleerd uit te voeren, met aandacht voor een stabiele adem en een goede uitlijning van het lichaam.

Bij Ohm-azing staat Hatha yoga voor vertragen, verbinden en thuiskomen in jezelf
STATUS:CONFIRMED
SEQUENCE:0
END:VEVENT
END:VCALENDAR