BEGIN:VCALENDAR
VERSION:2.0
CALSCALE:GREGORIAN
BEGIN:VEVENT
SUMMARY:Sommer Pilates | OUTDOOR
DTSTART;TZID=Europe/Vienna:20220727T190000
DTEND;TZID=Europe/Vienna:20220727T200000
LOCATION:Hariweg 90, 8151 Attendorf
DESCRIPTION: Gemeinsam genießen wir den Sommer und Pilates! 
In der Natur können wir noch besser abschalten und das Immunsystem und der Stoffwechsel werden durch die frische Luft angeregt. 

Also, schnapp dir die Matte und freue dich auf Pilates unter freiem Himmel in der wunderbaren Parkarena in Attendorf! Bring ausreichend Wasser mit und eventuell ein altes Handtuch um deine Matte zu schützen. 

Die Einheit findet nur bei Schönwetter statt!

Die Parkarena befindet sich in Attendorf (Hariweg 90, 8151 Attendorf) und ist ruhig und geschützt gelegen, am Bach, zwischen Bäumen die für Schatten sorgen... :)
STATUS:CONFIRMED
SEQUENCE:0
END:VEVENT
END:VCALENDAR