BEGIN:VCALENDAR
VERSION:2.0
CALSCALE:GREGORIAN
BEGIN:VEVENT
SUMMARY:Yoga Yin Yang
DTSTART;TZID=Europe/Paris:20260407T180000
DTEND;TZID=Europe/Paris:20260407T190000
LOCATION:Studio Pomme
DESCRIPTION: Mélange de Yoga Vinyasa dynamique et stimulant et de Yoga Yin apaisant et régénérant Une séance parfaite pour un travail corporel équilibré qui vous apporte une merveilleuse sensation de bien-être.
STATUS:CONFIRMED
SEQUENCE:0
END:VEVENT
END:VCALENDAR