BEGIN:VCALENDAR
VERSION:2.0
CALSCALE:GREGORIAN
BEGIN:VEVENT
SUMMARY:Level 3 Hatha Yoga online
DTSTART;TZID=Europe/Amsterdam:20200721T204500
DTEND;TZID=Europe/Amsterdam:20200721T214500
LOCATION:Industrieweg 7C Mierlo
DESCRIPTION: https://meet.google.com/dmm-ogyp-cwa
STATUS:CONFIRMED
SEQUENCE:0
END:VEVENT
END:VCALENDAR