BEGIN:VCALENDAR
VERSION:2.0
CALSCALE:GREGORIAN
BEGIN:VEVENT
SUMMARY:Level 3 Hatha Yoga Studio
DTSTART;TZID=Europe/Amsterdam:20200804T200000
DTEND;TZID=Europe/Amsterdam:20200804T210000
LOCATION:Industrieweg 7C Mierlo
DESCRIPTION: 
STATUS:CONFIRMED
SEQUENCE:0
END:VEVENT
END:VCALENDAR