BEGIN:VCALENDAR
VERSION:2.0
CALSCALE:GREGORIAN
BEGIN:VEVENT
SUMMARY:Duo of privé les
DTSTART;TZID=Europe/Amsterdam:20251101T111500
DTEND;TZID=Europe/Amsterdam:20251101T123000
LOCATION:louise de colignystraat 29a alkmaar
DESCRIPTION: 
STATUS:CONFIRMED
SEQUENCE:0
END:VEVENT
END:VCALENDAR