BEGIN:VCALENDAR
VERSION:2.0
CALSCALE:GREGORIAN
BEGIN:VEVENT
SUMMARY:Hatha Flow
DTSTART;TZID=Europe/Paris:20240620T190000
DTEND;TZID=Europe/Paris:20240620T201500
LOCATION:Studio 158
DESCRIPTION: * Les annulations gratuites ne peuvent être faites maximum 2h avant le cours. Dans le cas contraire, le cours sera obligatoirement facturé .
STATUS:CONFIRMED
SEQUENCE:0
END:VEVENT
END:VCALENDAR