BEGIN:VCALENDAR
VERSION:2.0
CALSCALE:GREGORIAN
BEGIN:VEVENT
SUMMARY:Cours Mat Class (Tapis) Méthode True Pilates®️Niveau: Intermédiaire
DTSTART;TZID=Europe/Paris:20260312T123000
DTEND;TZID=Europe/Paris:20260312T133000
LOCATION:Studio Danse Pilates Lyon / 2, place des Terreaux 69001 Lyon
DESCRIPTION: Cours Collectif sur tapis, maximum 8 personnes. le cours dure 1 heure.
Merci pour votre régularité afin de toujours progresser. Pas de Fermeture Eclair.
Annulation 24 h à l&#039;avance sinon le cours est dû. Merci de votre compréhension.
STATUS:CONFIRMED
SEQUENCE:0
END:VEVENT
END:VCALENDAR