BEGIN:VCALENDAR
VERSION:2.0
CALSCALE:GREGORIAN
BEGIN:VEVENT
SUMMARY:Cours Privé ou Duo/Trio Reformer + System True Pilates®️
DTSTART;TZID=Europe/Paris:20260430T164500
DTEND;TZID=Europe/Paris:20260430T174500
LOCATION:Studio Danse Pilates Lyon / 2, place des Terreaux 69001 Lyon
DESCRIPTION: 
STATUS:CONFIRMED
SEQUENCE:0
END:VEVENT
END:VCALENDAR