BEGIN:VCALENDAR
VERSION:2.0
CALSCALE:GREGORIAN
BEGIN:VEVENT
SUMMARY:Yinyoga med Tobias Mattsson
DTSTART;TZID=Europe/Stockholm:20250315T100000
DTEND;TZID=Europe/Stockholm:20250315T111500
LOCATION:Studioliv
DESCRIPTION: Lugn yinyoga, som passar fint för en harmonisk helg. Jobbar mot hela kroppen och bidrar till vårt lugn och ro system.
STATUS:CONFIRMED
SEQUENCE:0
END:VEVENT
END:VCALENDAR