BEGIN:VCALENDAR
VERSION:2.0
CALSCALE:GREGORIAN
BEGIN:VEVENT
SUMMARY:Yinyoga med Petra Liljeblad
DTSTART;TZID=Europe/Stockholm:20260204T173000
DTEND;TZID=Europe/Stockholm:20260204T183000
LOCATION:Studioliv
DESCRIPTION: Ett  försiktigt belastande av kroppen i supportade ställningar, ofta fokus på våra höfter, där man tånker att &quot;Själens muskel&quot; Psoas major samlar emotionella upplevelser i form av spänningar. Dessa löser vi upp här.

Vi håller oss stilla, andas igenom det lite obekväma och slappna av i muskler medans hjärnan får vila från bruset. Vila, avslappning, återhämtning är inte samma sak men besläktade.

Vår faschia, bindväv består till 10-30% av vatten och hela 30% av våra muskler är just bindväv.
STATUS:CONFIRMED
SEQUENCE:0
END:VEVENT
END:VCALENDAR