BEGIN:VCALENDAR
VERSION:2.0
CALSCALE:GREGORIAN
BEGIN:VEVENT
SUMMARY:Hatha slow flow med Tobias Mattsson
DTSTART;TZID=Europe/Stockholm:20250313T161500
DTEND;TZID=Europe/Stockholm:20250313T171500
LOCATION:Studioliv
DESCRIPTION: Ett vinyasapass där vi låter andetaget gå i lugn takt och vi följer efter. Lugna flöden, vridningar och en del styrka. Välkomna
STATUS:CONFIRMED
SEQUENCE:0
END:VEVENT
END:VCALENDAR