BEGIN:VCALENDAR
VERSION:2.0
CALSCALE:GREGORIAN
BEGIN:VEVENT
SUMMARY:Mjuk Hathayoga med Tobias Mattsson
DTSTART;TZID=Europe/Stockholm:20250515T170000
DTEND;TZID=Europe/Stockholm:20250515T180000
LOCATION:Studioliv
DESCRIPTION: 1 timme hathayoga där vi går igenom hela kroppen, så den blir mjuk och glad! Yoga är ju även en träningsform som lugnar nervsystemet och det mår vi alla bra av. Välkomna
STATUS:CONFIRMED
SEQUENCE:0
END:VEVENT
END:VCALENDAR