BEGIN:VCALENDAR
VERSION:2.0
CALSCALE:GREGORIAN
BEGIN:VEVENT
SUMMARY:Yinygoa /restorative med Eva Ahl Lejhagen
DTSTART;TZID=Europe/Stockholm:20250706T160000
DTEND;TZID=Europe/Stockholm:20250706T171500
LOCATION:Studioliv
DESCRIPTION: Yinyoga med inslag av restorative vi stannar längre i positionerna och tar oss i ur positionerna i ett mjukt flöde .
STATUS:CONFIRMED
SEQUENCE:0
END:VEVENT
END:VCALENDAR