BEGIN:VCALENDAR
VERSION:2.0
CALSCALE:GREGORIAN
BEGIN:VEVENT
SUMMARY:Studiolivdagen Hathamix Petra Liljeblad
DTSTART;TZID=Europe/Stockholm:20250907T131500
DTEND;TZID=Europe/Stockholm:20250907T140000
LOCATION:Studioliv
DESCRIPTION: Med Petras breda erfarenhet av olika yogastilar är denna klass en spännande blandning av mycket gott för kroppen!
STATUS:CONFIRMED
SEQUENCE:0
END:VEVENT
END:VCALENDAR