BEGIN:VCALENDAR
VERSION:2.0
CALSCALE:GREGORIAN
BEGIN:VEVENT
SUMMARY:Yin/Restorative med Eva Ahl Lejhagen
DTSTART;TZID=Europe/Stockholm:20250805T100000
DTEND;TZID=Europe/Stockholm:20250805T111500
LOCATION:Studioliv
DESCRIPTION: En yogaklass med fokus på stillhet och medveten närvaro. Vi håller liggande eller sittande positioner i 3-6 min. och stöttar upp med bolster ,klossar och filter. Denna klass passar alla.
STATUS:CONFIRMED
SEQUENCE:0
END:VEVENT
END:VCALENDAR