BEGIN:VCALENDAR
VERSION:2.0
CALSCALE:GREGORIAN
BEGIN:VEVENT
SUMMARY:Yinyoga/restorative med Tobias (Petteri tyvärr sjuk)
DTSTART;TZID=Europe/Stockholm:20260412T103000
DTEND;TZID=Europe/Stockholm:20260412T114000
LOCATION:Studioliv
DESCRIPTION: En söndagrelax utan presentation, första helgen i månaden... 
Blandar ibland in lite rörelse (soft). Vi är där vi är...Inga förkunskaper behövs.
STATUS:CONFIRMED
SEQUENCE:0
END:VEVENT
END:VCALENDAR