BEGIN:VCALENDAR
VERSION:2.0
CALSCALE:GREGORIAN
BEGIN:VEVENT
SUMMARY:Yinyoga med  Eva Ahl Lejhagen
DTSTART;TZID=Europe/Stockholm:20260110T120000
DTEND;TZID=Europe/Stockholm:20260110T130000
LOCATION:Studioliv
DESCRIPTION: En yoga klass med fokus på stillhet och medveten närvaro. Vi håller liggande eller sittande positioner i 3-6 minuter och stöttar upp med bolster, klossar och filtar. Denna klass passar alla.
STATUS:CONFIRMED
SEQUENCE:0
END:VEVENT
END:VCALENDAR