BEGIN:VCALENDAR
VERSION:2.0
CALSCALE:GREGORIAN
BEGIN:VEVENT
SUMMARY:Yin/restorative ned Eva Ahl Lejhagen
DTSTART;TZID=Europe/Stockholm:20260130T100000
DTEND;TZID=Europe/Stockholm:20260130T110000
LOCATION:Studioliv
DESCRIPTION: En yogaklass med fokus på stillhet och närvaro. Vi håller positionerna i 3-6 min.och stöttar upp med bolster, klossar och filtar.En klass som passar alla inga förkunskaper krävs.
STATUS:CONFIRMED
SEQUENCE:0
END:VEVENT
END:VCALENDAR