BEGIN:VCALENDAR
VERSION:2.0
CALSCALE:GREGORIAN
BEGIN:VEVENT
SUMMARY:Yin/restorative
DTSTART;TZID=Europe/Stockholm:20260330T100000
DTEND;TZID=Europe/Stockholm:20260330T110000
LOCATION:Studioliv
DESCRIPTION: En yogaklass med fokus på stillhet och närvaro. Vi håller  liggande eller sittande positioner i 3-6 minuter och stöttar upp med bolster, klossar och filtar. Denna klass passar alla
STATUS:CONFIRMED
SEQUENCE:0
END:VEVENT
END:VCALENDAR