BEGIN:VCALENDAR
VERSION:2.0
CALSCALE:GREGORIAN
BEGIN:VEVENT
SUMMARY:Atelier YIN YOGA : chouchouter votre ventre
DTSTART;TZID=Europe/Paris:20211204T100000
DTEND;TZID=Europe/Paris:20211204T120000
LOCATION:Studio Mermaid
DESCRIPTION: Le yin yoga permet d’étirer et d’assouplir le corps en profondeur grâce à des postures assises ou allongées au sol maintenues plusieurs minutes dans l&#039;immobilité. 
En yin, nous ne sommes pas sur le tapis pour nous muscler mais pour nous relâcher et travailler avec notre respiration.
Cette pratique est à la fois douce, intense et profonde.

Dans cet atelier, nous explorerons plus spécifiquement le ventre à travers des torsions, des flexions, des compressions et des respirations pour permettre aux organes digestifs de s&#039;assouplir et de se détendre.
STATUS:CONFIRMED
SEQUENCE:0
END:VEVENT
END:VCALENDAR