BEGIN:VCALENDAR
VERSION:2.0
CALSCALE:GREGORIAN
BEGIN:VEVENT
SUMMARY:Drainage lymphatique
DTSTART;TZID=Europe/Paris:20220204T173000
DTEND;TZID=Europe/Paris:20220204T190000
LOCATION:Studio Mermaid
DESCRIPTION: Marie - Atelier Glyka
STATUS:CONFIRMED
SEQUENCE:0
END:VEVENT
END:VCALENDAR