BEGIN:VCALENDAR
VERSION:2.0
CALSCALE:GREGORIAN
BEGIN:VEVENT
SUMMARY:Drainage lymphatique
DTSTART;TZID=Europe/Paris:20220218T173000
DTEND;TZID=Europe/Paris:20220218T190000
LOCATION:Studio Mermaid
DESCRIPTION: 
STATUS:CONFIRMED
SEQUENCE:0
END:VEVENT
END:VCALENDAR