BEGIN:VCALENDAR
VERSION:2.0
CALSCALE:GREGORIAN
BEGIN:VEVENT
SUMMARY:Morning Yoga
DTSTART;TZID=Europe/Paris:20220330T093000
DTEND;TZID=Europe/Paris:20220330T103000
LOCATION:Studio Mermaid
DESCRIPTION: Yoga doux, sur les bases du yoga vinyasa. 
Réveil du corps en douceur, enchaînement fluide et dynamique, relaxation et respiration.
Le cours est accessible à tous.
Pour me contacter :
celine.duparcq.yoga@gmail.com
@celine_onde_yoga
STATUS:CONFIRMED
SEQUENCE:0
END:VEVENT
END:VCALENDAR