BEGIN:VCALENDAR
VERSION:2.0
CALSCALE:GREGORIAN
BEGIN:VEVENT
SUMMARY:Mix Yoga
DTSTART;TZID=Europe/Paris:20220426T121500
DTEND;TZID=Europe/Paris:20220426T131500
LOCATION:Studio Mermaid
DESCRIPTION: Le Mix Yoga associe un temps dynamique avec des salutations au soleil ou à la lune et des postures debout pour renforcer et étirer les muscles et changer d’énergie, puis un temps plus lent et au sol pour soigner nos articulations et inviter le corps et l’esprit à faire de la place au calme et à la détente.
Le mix yoga trouve ses origines et son inspiration dans l’Ashtanga yoga pour la force et l’énergie et le Yin yoga pour la découverte de ses rivières intérieures et la connexion à soi. 
Pour me contacter : 06 79 13 97 15
Instagram : yoga_pleine_nature
STATUS:CONFIRMED
SEQUENCE:0
END:VEVENT
END:VCALENDAR