BEGIN:VCALENDAR
VERSION:2.0
CALSCALE:GREGORIAN
BEGIN:VEVENT
SUMMARY:Yoga prénatal
DTSTART;TZID=Europe/Paris:20220712T160000
DTEND;TZID=Europe/Paris:20220712T170000
LOCATION:Studio Mermaid
DESCRIPTION: Ce yoga, destiné à toutes les femmes enceintes (après accord de leur sage femme ou gynécologue), est adapté aux modifications physiques et hormonale liées à la grossesse. 

Une femme enceinte a besoin de mobilité, d’être bien dans son corps, de laisser de la place à son bébé pour le laisser grandir.
Apprendre à écouter son corps, voici également l’un des enjeux du yoga prénatal. 

Mouvement, respiration, bien être.

Tarifs Yoga Prénatal : 
- cours à l’unité : 20e 
- carte 5 cours : 75e (15e le cours) 
- carte 10 cours : 140e (14e le cours)
STATUS:CONFIRMED
SEQUENCE:0
END:VEVENT
END:VCALENDAR