BEGIN:VCALENDAR
VERSION:2.0
CALSCALE:GREGORIAN
BEGIN:VEVENT
SUMMARY:Kundalini Activation
DTSTART;TZID=Europe/Brussels:20241010T193000
DTEND;TZID=Europe/Brussels:20241010T213000
LOCATION:Rogierlaan 50, 8400 Oostende
DESCRIPTION: 
STATUS:CONFIRMED
SEQUENCE:0
END:VEVENT
END:VCALENDAR