BEGIN:VCALENDAR
VERSION:2.0
CALSCALE:GREGORIAN
BEGIN:VEVENT
SUMMARY:geboorte Ilya
DTSTART;TZID=Europe/Brussels:20241108T070000
DTEND;TZID=Europe/Brussels:20241108T230000
LOCATION:sint vincentius Antwerpen
DESCRIPTION: 
STATUS:CONFIRMED
SEQUENCE:0
END:VEVENT
END:VCALENDAR