BEGIN:VCALENDAR
VERSION:2.0
CALSCALE:GREGORIAN
BEGIN:VEVENT
SUMMARY:nagesprek geboorte
DTSTART;TZID=Europe/Brussels:20241123T151000
DTEND;TZID=Europe/Brussels:20241123T170000
LOCATION:brasschaat
DESCRIPTION: 
STATUS:CONFIRMED
SEQUENCE:0
END:VEVENT
END:VCALENDAR