BEGIN:VCALENDAR
VERSION:2.0
CALSCALE:GREGORIAN
BEGIN:VEVENT
SUMMARY:hypnobirthing les 4
DTSTART;TZID=Europe/Brussels:20250112T123000
DTEND;TZID=Europe/Brussels:20250112T150000
LOCATION:houtsnipstraat, 8400 Oostende
DESCRIPTION: 
STATUS:CONFIRMED
SEQUENCE:0
END:VEVENT
END:VCALENDAR